BEGIN:VCALENDAR
VERSION:2.0
PRODID:-//Mt. Olivet UMC - ECPv6.15.17//NONSGML v1.0//EN
CALSCALE:GREGORIAN
METHOD:PUBLISH
X-WR-CALNAME:Mt. Olivet UMC
X-ORIGINAL-URL:https://www.mtoumcwv.org
X-WR-CALDESC:Events for Mt. Olivet UMC
REFRESH-INTERVAL;VALUE=DURATION:PT1H
X-Robots-Tag:noindex
X-PUBLISHED-TTL:PT1H
BEGIN:VTIMEZONE
TZID:America/New_York
BEGIN:DAYLIGHT
TZOFFSETFROM:-0500
TZOFFSETTO:-0400
TZNAME:EDT
DTSTART:20250309T070000
END:DAYLIGHT
BEGIN:STANDARD
TZOFFSETFROM:-0400
TZOFFSETTO:-0500
TZNAME:EST
DTSTART:20251102T060000
END:STANDARD
BEGIN:DAYLIGHT
TZOFFSETFROM:-0500
TZOFFSETTO:-0400
TZNAME:EDT
DTSTART:20260308T070000
END:DAYLIGHT
BEGIN:STANDARD
TZOFFSETFROM:-0400
TZOFFSETTO:-0500
TZNAME:EST
DTSTART:20261101T060000
END:STANDARD
BEGIN:DAYLIGHT
TZOFFSETFROM:-0500
TZOFFSETTO:-0400
TZNAME:EDT
DTSTART:20270314T070000
END:DAYLIGHT
BEGIN:STANDARD
TZOFFSETFROM:-0400
TZOFFSETTO:-0500
TZNAME:EST
DTSTART:20271107T060000
END:STANDARD
END:VTIMEZONE
BEGIN:VEVENT
DTSTART;TZID=America/New_York:20260522T083000
DTEND;TZID=America/New_York:20260522T223000
DTSTAMP:20260424T091706
CREATED:20260421T132240Z
LAST-MODIFIED:20260421T132244Z
UID:1590-1779438600-1779489000@www.mtoumcwv.org
SUMMARY:Lord's Pantry
DESCRIPTION:
URL:https://www.mtoumcwv.org/event/lords-pantry-3/
END:VEVENT
BEGIN:VEVENT
DTSTART;TZID=America/New_York:20260607T103000
DTEND;TZID=America/New_York:20260607T130000
DTSTAMP:20260424T091706
CREATED:20260318T174922Z
LAST-MODIFIED:20260318T174927Z
UID:1569-1780828200-1780837200@www.mtoumcwv.org
SUMMARY:175th Anniversary
DESCRIPTION:Join us as we celebrate the 175th anniversary of Mount Olivet UMC’s mission and ministry. Our guest preacher will be Bishop Debra Wallace Padgett of the West Virginia Annual Conference.
URL:https://www.mtoumcwv.org/event/175th-anniversary/
END:VEVENT
BEGIN:VEVENT
DTSTART;TZID=America/New_York:20260626T083000
DTEND;TZID=America/New_York:20260626T103000
DTSTAMP:20260424T091706
CREATED:20260421T132353Z
LAST-MODIFIED:20260421T132358Z
UID:1592-1782462600-1782469800@www.mtoumcwv.org
SUMMARY:Lord's Pantry
DESCRIPTION:
URL:https://www.mtoumcwv.org/event/lords-pantry-4/
END:VEVENT
BEGIN:VEVENT
DTSTART;TZID=America/New_York:20260628T160000
DTEND;TZID=America/New_York:20260628T180000
DTSTAMP:20260424T091706
CREATED:20260421T132547Z
LAST-MODIFIED:20260421T132551Z
UID:1594-1782662400-1782669600@www.mtoumcwv.org
SUMMARY:Heaven's Bound Concert
DESCRIPTION:
URL:https://www.mtoumcwv.org/event/heavens-bound-concert/
END:VEVENT
BEGIN:VEVENT
DTSTART;TZID=America/New_York:20260724T083000
DTEND;TZID=America/New_York:20260724T103000
DTSTAMP:20260424T091706
CREATED:20260421T132821Z
LAST-MODIFIED:20260421T132828Z
UID:1596-1784881800-1784889000@www.mtoumcwv.org
SUMMARY:Lord's Pantry
DESCRIPTION:
URL:https://www.mtoumcwv.org/event/lords-pantry-5/
END:VEVENT
BEGIN:VEVENT
DTSTART;TZID=America/New_York:20260828T083000
DTEND;TZID=America/New_York:20260828T223000
DTSTAMP:20260424T091706
CREATED:20260421T133035Z
LAST-MODIFIED:20260421T133040Z
UID:1598-1787905800-1787956200@www.mtoumcwv.org
SUMMARY:Lord's Pantry
DESCRIPTION:
URL:https://www.mtoumcwv.org/event/lords-pantry-6/
END:VEVENT
BEGIN:VEVENT
DTSTART;TZID=America/New_York:20260925T083000
DTEND;TZID=America/New_York:20260925T103000
DTSTAMP:20260424T091706
CREATED:20260421T133150Z
LAST-MODIFIED:20260421T133202Z
UID:1600-1790325000-1790332200@www.mtoumcwv.org
SUMMARY:Lord's Pantry
DESCRIPTION:
URL:https://www.mtoumcwv.org/event/lords-pantry-7/
END:VEVENT
BEGIN:VEVENT
DTSTART;TZID=America/New_York:20261017T160000
DTEND;TZID=America/New_York:20261017T190000
DTSTAMP:20260424T091706
CREATED:20260421T133404Z
LAST-MODIFIED:20260421T133409Z
UID:1602-1792252800-1792263600@www.mtoumcwv.org
SUMMARY:Chili Night
DESCRIPTION:
URL:https://www.mtoumcwv.org/event/chili-night/
END:VEVENT
BEGIN:VEVENT
DTSTART;TZID=America/New_York:20261023T083000
DTEND;TZID=America/New_York:20261023T223000
DTSTAMP:20260424T091706
CREATED:20260421T134235Z
LAST-MODIFIED:20260421T134241Z
UID:1606-1792744200-1792794600@www.mtoumcwv.org
SUMMARY:Lord's Pantry
DESCRIPTION:
URL:https://www.mtoumcwv.org/event/lords-pantry-8/
END:VEVENT
BEGIN:VEVENT
DTSTART;TZID=America/New_York:20261025T140000
DTEND;TZID=America/New_York:20261025T160000
DTSTAMP:20260424T091706
CREATED:20260421T133932Z
LAST-MODIFIED:20260421T133938Z
UID:1604-1792936800-1792944000@www.mtoumcwv.org
SUMMARY:Trunk or Treat
DESCRIPTION:
URL:https://www.mtoumcwv.org/event/trunk-or-treat/
END:VEVENT
BEGIN:VEVENT
DTSTART;TZID=America/New_York:20261120T083000
DTEND;TZID=America/New_York:20261120T103000
DTSTAMP:20260424T091706
CREATED:20260421T134550Z
LAST-MODIFIED:20260421T134556Z
UID:1610-1795163400-1795170600@www.mtoumcwv.org
SUMMARY:Lord's Pantry
DESCRIPTION:
URL:https://www.mtoumcwv.org/event/lords-pantry-9/
END:VEVENT
BEGIN:VEVENT
DTSTART;TZID=America/New_York:20261122T113000
DTEND;TZID=America/New_York:20261122T130000
DTSTAMP:20260424T091706
CREATED:20260421T134448Z
LAST-MODIFIED:20260421T134452Z
UID:1608-1795347000-1795352400@www.mtoumcwv.org
SUMMARY:Thanks 4 Giving
DESCRIPTION:
URL:https://www.mtoumcwv.org/event/thanks-4-giving/
END:VEVENT
BEGIN:VEVENT
DTSTART;TZID=America/New_York:20261211T083000
DTEND;TZID=America/New_York:20261211T103000
DTSTAMP:20260424T091706
CREATED:20260421T134655Z
LAST-MODIFIED:20260421T134659Z
UID:1612-1796977800-1796985000@www.mtoumcwv.org
SUMMARY:Lord's Pantry
DESCRIPTION:
URL:https://www.mtoumcwv.org/event/lords-pantry-10/
END:VEVENT
END:VCALENDAR